BEGIN:VCALENDAR
VERSION:2.0
PRODID:-//Direct Compost Solutions - ECPv6.15.11//NONSGML v1.0//EN
CALSCALE:GREGORIAN
METHOD:PUBLISH
X-WR-CALNAME:Direct Compost Solutions
X-ORIGINAL-URL:https://directcompostsolutions.com
X-WR-CALDESC:Events for Direct Compost Solutions
REFRESH-INTERVAL;VALUE=DURATION:PT1H
X-Robots-Tag:noindex
X-PUBLISHED-TTL:PT1H
BEGIN:VTIMEZONE
TZID:Australia/Brisbane
BEGIN:STANDARD
TZOFFSETFROM:+1000
TZOFFSETTO:+1000
TZNAME:AEST
DTSTART:20210101T000000
END:STANDARD
END:VTIMEZONE
BEGIN:VEVENT
DTSTART;TZID=Australia/Brisbane:20220708T080000
DTEND;TZID=Australia/Brisbane:20220710T160000
DTSTAMP:20260423T191648
CREATED:20220507T100106Z
LAST-MODIFIED:20220507T102743Z
UID:3522-1657267200-1657468800@directcompostsolutions.com
SUMMARY:Queensland Garden Expo
DESCRIPTION:Queensland Garden Expo is a ‘must see’ in 2022 for green thumbs and novice gardeners alike. Held in the Sunshine Coast hinterland town of Nambour from 8th to 10th July\, this three-day expo is Queensland’s premier gardening event attracting visitors from all over Australia. Some of Australia’s leading Gardening experts take part in three days of lectures\, demonstrations\, and workshops. \nCome visit our stall ECO-EZE Compot Composter and learn how to compost everything biodegradable the easy way.
URL:https://directcompostsolutions.com/event/queensland-garden-expo/
LOCATION:Nambour Showgrounds\, Coronation Ave\, Nambour\, QLD\, 4560\, Australia
ATTACH;FMTTYPE=image/jpeg:https://directcompostsolutions.com/wp-content/uploads/sites/2/2022/05/Queensland_Garden_Expo.jpg
END:VEVENT
END:VCALENDAR